BEGIN:VCALENDAR
VERSION:2.0
PRODID:-//LEO Network//Training Calendar//EN
BEGIN:VEVENT
UID:event-719@leo-network.com
DTSTAMP:20260419T204133Z
DTSTART:20230616T150000Z
DTEND:20230617T000000Z
SUMMARY:Advanced Search Warrants
DESCRIPTION:Law Enforcement Training
Hosted by: Blue to Gold Training

View event details:
https://www.leo-network.com/event/advanced-search-warrants-inver-grove-heights-mn-719/
LOCATION:Inver Grove Heights, MN
URL:https://www.leo-network.com/event/advanced-search-warrants-inver-grove-heights-mn-719/
END:VEVENT
END:VCALENDAR
