BEGIN:VCALENDAR
VERSION:2.0
PRODID:-//LEO Network//Training Calendar//EN
BEGIN:VEVENT
UID:event-7197@leo-network.com
DTSTAMP:20260422T164428Z
DTSTART:20241205T160000Z
DTEND:20241206T010000Z
SUMMARY:Body Language for Law Enforcement
DESCRIPTION:Law Enforcement Training
Hosted by: ONEFACE LLC

View event details:
https://www.leo-network.com/event/body-language-for-law-enforcement-stroud-ok-7197/
LOCATION:Stroud, OK
URL:https://www.leo-network.com/event/body-language-for-law-enforcement-stroud-ok-7197/
END:VEVENT
END:VCALENDAR
