BEGIN:VCALENDAR
VERSION:2.0
PRODID:-//LEO Network//Training Calendar//EN
BEGIN:VEVENT
UID:event-7336@leo-network.com
DTSTAMP:20260422T161353Z
DTSTART:20250523T150000Z
DTEND:20250524T000000Z
SUMMARY:Interdiction Tactics
DESCRIPTION:Law Enforcement Training
Hosted by: ACE Interdiction Tactics

View event details:
https://www.leo-network.com/event/interdiction-tactics-valley-center-ks-7336/
LOCATION:Valley Center, KS
URL:https://www.leo-network.com/event/interdiction-tactics-valley-center-ks-7336/
END:VEVENT
END:VCALENDAR
