BEGIN:VCALENDAR
VERSION:2.0
PRODID:-//LEO Network//Training Calendar//EN
BEGIN:VEVENT
UID:event-7377@leo-network.com
DTSTAMP:20260423T084949Z
DTSTART:20250222T160000Z
DTEND:20250223T010000Z
SUMMARY:Basic Shotgun Class
DESCRIPTION:Law Enforcement Training
Hosted by: Lighthorse Tactical, LLC

View event details:
https://www.leo-network.com/event/basic-shotgun-class-calera-al-7377/
LOCATION:Calera, AL
URL:https://www.leo-network.com/event/basic-shotgun-class-calera-al-7377/
END:VEVENT
END:VCALENDAR
