BEGIN:VCALENDAR
VERSION:2.0
PRODID:-//LEO Network//Training Calendar//EN
BEGIN:VEVENT
UID:event-7437@leo-network.com
DTSTAMP:20260422T172953Z
DTSTART:20250523T150000Z
DTEND:20250524T000000Z
SUMMARY:Fatal Dose
DESCRIPTION:Law Enforcement Training
Hosted by: ACE Interdiction Tactics

View event details:
https://www.leo-network.com/event/fatal-dose-valley-center-ks-7437/
LOCATION:Valley Center, KS
URL:https://www.leo-network.com/event/fatal-dose-valley-center-ks-7437/
END:VEVENT
END:VCALENDAR
