BEGIN:VCALENDAR
VERSION:2.0
PRODID:-//LEO Network//Training Calendar//EN
BEGIN:VEVENT
UID:event-745@leo-network.com
DTSTAMP:20260423T100508Z
DTSTART:20230621T150000Z
DTEND:20230622T000000Z
SUMMARY:Advanced Traffic Stops
DESCRIPTION:Law Enforcement Training
Hosted by: Blue to Gold Training

View event details:
https://www.leo-network.com/event/advanced-traffic-stops-wheeling-wv-745/
LOCATION:Wheeling, WV
URL:https://www.leo-network.com/event/advanced-traffic-stops-wheeling-wv-745/
END:VEVENT
END:VCALENDAR
