BEGIN:VCALENDAR
VERSION:2.0
PRODID:-//LEO Network//Training Calendar//EN
BEGIN:VEVENT
UID:event-746@leo-network.com
DTSTAMP:20260423T100457Z
DTSTART:20230622T150000Z
DTEND:20230623T000000Z
SUMMARY:Bulletproof Report Writing
DESCRIPTION:Law Enforcement Training
Hosted by: Blue to Gold Training

View event details:
https://www.leo-network.com/event/bulletproof-report-writing-wheeling-wv-746/
LOCATION:Wheeling, WV
URL:https://www.leo-network.com/event/bulletproof-report-writing-wheeling-wv-746/
END:VEVENT
END:VCALENDAR
