BEGIN:VCALENDAR
VERSION:2.0
PRODID:-//LEO Network//Training Calendar//EN
BEGIN:VEVENT
UID:event-7489@leo-network.com
DTSTAMP:20260421T233453Z
DTSTART:20251208T160000Z
DTEND:20251209T010000Z
SUMMARY:Gang ID/Recognition Course
DESCRIPTION:Law Enforcement Training
Hosted by: BS Narcotics

View event details:
https://www.leo-network.com/event/gang-id-recognition-course-dfw-airport-tx-7489/
LOCATION:DFW Airport, TX
URL:https://www.leo-network.com/event/gang-id-recognition-course-dfw-airport-tx-7489/
END:VEVENT
END:VCALENDAR
