BEGIN:VCALENDAR
VERSION:2.0
PRODID:-//LEO Network//Training Calendar//EN
BEGIN:VEVENT
UID:event-7490@leo-network.com
DTSTAMP:20260421T233453Z
DTSTART:20251209T160000Z
DTEND:20251211T010000Z
SUMMARY:Intro to Narcotic Investigations
DESCRIPTION:Law Enforcement Training
Hosted by: BS Narcotics

View event details:
https://www.leo-network.com/event/intro-to-narcotic-investigations-dfw-airport-tx-7490/
LOCATION:DFW Airport, TX
URL:https://www.leo-network.com/event/intro-to-narcotic-investigations-dfw-airport-tx-7490/
END:VEVENT
END:VCALENDAR
