BEGIN:VCALENDAR
VERSION:2.0
PRODID:-//LEO Network//Training Calendar//EN
BEGIN:VEVENT
UID:event-7491@leo-network.com
DTSTAMP:20260421T233534Z
DTSTART:20251211T160000Z
DTEND:20251213T010000Z
SUMMARY:Surveillance Techniques
DESCRIPTION:Law Enforcement Training
Hosted by: BS Narcotics

View event details:
https://www.leo-network.com/event/surveillance-techniques-dfw-airport-tx-7491/
LOCATION:DFW Airport, TX
URL:https://www.leo-network.com/event/surveillance-techniques-dfw-airport-tx-7491/
END:VEVENT
END:VCALENDAR
