BEGIN:VCALENDAR
VERSION:2.0
PRODID:-//LEO Network//Training Calendar//EN
BEGIN:VEVENT
UID:event-7503@leo-network.com
DTSTAMP:20260423T100557Z
DTSTART:20250505T150000Z
DTEND:20250506T000000Z
SUMMARY:Intercept
DESCRIPTION:Law Enforcement Training
Hosted by: ACE Interdiction Tactics

View event details:
https://www.leo-network.com/event/intercept-beaumont-tx-7503/
LOCATION:Beaumont, TX
URL:https://www.leo-network.com/event/intercept-beaumont-tx-7503/
END:VEVENT
END:VCALENDAR
