BEGIN:VCALENDAR
VERSION:2.0
PRODID:-//LEO Network//Training Calendar//EN
BEGIN:VEVENT
UID:event-751@leo-network.com
DTSTAMP:20260422T143740Z
DTSTART:20230418T150000Z
DTEND:20230419T000000Z
SUMMARY:Advanced Search & Seizure
DESCRIPTION:Law Enforcement Training
Hosted by: Blue to Gold Training

View event details:
https://www.leo-network.com/event/advanced-search-seizure-springfield-mo-751/
LOCATION:Springfield, MO
URL:https://www.leo-network.com/event/advanced-search-seizure-springfield-mo-751/
END:VEVENT
END:VCALENDAR
