BEGIN:VCALENDAR
VERSION:2.0
PRODID:-//LEO Network//Training Calendar//EN
BEGIN:VEVENT
UID:event-752@leo-network.com
DTSTAMP:20260422T143756Z
DTSTART:20230419T150000Z
DTEND:20230420T000000Z
SUMMARY:Advanced Traffic Stops
DESCRIPTION:Law Enforcement Training
Hosted by: Blue to Gold Training

View event details:
https://www.leo-network.com/event/advanced-traffic-stops-springfield-mo-752/
LOCATION:Springfield, MO
URL:https://www.leo-network.com/event/advanced-traffic-stops-springfield-mo-752/
END:VEVENT
END:VCALENDAR
