BEGIN:VCALENDAR
VERSION:2.0
PRODID:-//LEO Network//Training Calendar//EN
BEGIN:VEVENT
UID:event-753@leo-network.com
DTSTAMP:20260422T161316Z
DTSTART:20230420T150000Z
DTEND:20230421T000000Z
SUMMARY:Advanced Criminal Investigations
DESCRIPTION:Law Enforcement Training
Hosted by: Blue to Gold Training

View event details:
https://www.leo-network.com/event/advanced-criminal-investigations-springfield-mo-753/
LOCATION:Springfield, MO
URL:https://www.leo-network.com/event/advanced-criminal-investigations-springfield-mo-753/
END:VEVENT
END:VCALENDAR
