BEGIN:VCALENDAR
VERSION:2.0
PRODID:-//LEO Network//Training Calendar//EN
BEGIN:VEVENT
UID:event-754@leo-network.com
DTSTAMP:20260422T161316Z
DTSTART:20230627T150000Z
DTEND:20230628T000000Z
SUMMARY:Advanced Search & Seizure
DESCRIPTION:Law Enforcement Training
Hosted by: Blue to Gold Training

View event details:
https://www.leo-network.com/event/advanced-search-seizure-liberty-mo-754/
LOCATION:Liberty, MO
URL:https://www.leo-network.com/event/advanced-search-seizure-liberty-mo-754/
END:VEVENT
END:VCALENDAR
