BEGIN:VCALENDAR
VERSION:2.0
PRODID:-//LEO Network//Training Calendar//EN
BEGIN:VEVENT
UID:event-7542@leo-network.com
DTSTAMP:20260421T020218Z
DTSTART:20250617T150000Z
DTEND:20250618T000000Z
SUMMARY:Advanced Search & Seizure by Blue to Gold
DESCRIPTION:Law Enforcement Training
Hosted by: Blue to Gold Training

View event details:
https://www.leo-network.com/event/advanced-search-seizure-by-blue-to-gold-greer-sc-7542/
LOCATION:greer, SC
URL:https://www.leo-network.com/event/advanced-search-seizure-by-blue-to-gold-greer-sc-7542/
END:VEVENT
END:VCALENDAR
