BEGIN:VCALENDAR
VERSION:2.0
PRODID:-//LEO Network//Training Calendar//EN
BEGIN:VEVENT
UID:event-7543@leo-network.com
DTSTAMP:20260421T020138Z
DTSTART:20250618T150000Z
DTEND:20250619T000000Z
SUMMARY:Advanced Traffic Stops by Blue to Gold
DESCRIPTION:Law Enforcement Training
Hosted by: Blue to Gold Training

View event details:
https://www.leo-network.com/event/advanced-traffic-stops-by-blue-to-gold-greer-sc-7543/
LOCATION:greer, SC
URL:https://www.leo-network.com/event/advanced-traffic-stops-by-blue-to-gold-greer-sc-7543/
END:VEVENT
END:VCALENDAR
