BEGIN:VCALENDAR
VERSION:2.0
PRODID:-//LEO Network//Training Calendar//EN
BEGIN:VEVENT
UID:event-755@leo-network.com
DTSTAMP:20260422T161337Z
DTSTART:20230628T150000Z
DTEND:20230629T000000Z
SUMMARY:Advanced Traffic Stops
DESCRIPTION:Law Enforcement Training
Hosted by: Blue to Gold Training

View event details:
https://www.leo-network.com/event/advanced-traffic-stops-liberty-mo-755/
LOCATION:Liberty, MO
URL:https://www.leo-network.com/event/advanced-traffic-stops-liberty-mo-755/
END:VEVENT
END:VCALENDAR
