BEGIN:VCALENDAR
VERSION:2.0
PRODID:-//LEO Network//Training Calendar//EN
BEGIN:VEVENT
UID:event-7583@leo-network.com
DTSTAMP:20260423T061200Z
DTSTART:20250828T150000Z
DTEND:20250829T000000Z
SUMMARY:Advanced Search & Seizure by Blue to Gold
DESCRIPTION:Law Enforcement Training
Hosted by: Blue to Gold Training

View event details:
https://www.leo-network.com/event/advanced-search-seizure-by-blue-to-gold-germantown-tn-7583/
LOCATION:germantown, TN
URL:https://www.leo-network.com/event/advanced-search-seizure-by-blue-to-gold-germantown-tn-7583/
END:VEVENT
END:VCALENDAR
