BEGIN:VCALENDAR
VERSION:2.0
PRODID:-//LEO Network//Training Calendar//EN
BEGIN:VEVENT
UID:event-7584@leo-network.com
DTSTAMP:20260423T061314Z
DTSTART:20250827T150000Z
DTEND:20250828T000000Z
SUMMARY:Advanced Traffic Stops by Blue to Gold
DESCRIPTION:Law Enforcement Training
Hosted by: Blue to Gold Training

View event details:
https://www.leo-network.com/event/advanced-traffic-stops-by-blue-to-gold-germantown-tn-7584/
LOCATION:germantown, TN
URL:https://www.leo-network.com/event/advanced-traffic-stops-by-blue-to-gold-germantown-tn-7584/
END:VEVENT
END:VCALENDAR
