BEGIN:VCALENDAR
VERSION:2.0
PRODID:-//LEO Network//Training Calendar//EN
BEGIN:VEVENT
UID:event-7610@leo-network.com
DTSTAMP:20260420T092937Z
DTSTART:20251021T150000Z
DTEND:20251022T000000Z
SUMMARY:Interview & Interrogation Case Law by Blue to Gold
DESCRIPTION:Law Enforcement Training
Hosted by: Blue to Gold Training

View event details:
https://www.leo-network.com/event/interview-interrogation-case-law-by-blue-to-gold-strongsville-oh-7610/
LOCATION:strongsville, OH
URL:https://www.leo-network.com/event/interview-interrogation-case-law-by-blue-to-gold-strongsville-oh-7610/
END:VEVENT
END:VCALENDAR
