BEGIN:VCALENDAR
VERSION:2.0
PRODID:-//LEO Network//Training Calendar//EN
BEGIN:VEVENT
UID:event-7641@leo-network.com
DTSTAMP:20260422T233458Z
DTSTART:20250529T150000Z
DTEND:20250530T000000Z
SUMMARY:Evading Honesty® 2.0
DESCRIPTION:Law Enforcement Training
Hosted by: Triple I Solutions

View event details:
https://www.leo-network.com/event/evading-honesty-2-0-junction-tx-7641/
LOCATION:Junction, TX
URL:https://www.leo-network.com/event/evading-honesty-2-0-junction-tx-7641/
END:VEVENT
END:VCALENDAR
