BEGIN:VCALENDAR
VERSION:2.0
PRODID:-//LEO Network//Training Calendar//EN
BEGIN:VEVENT
UID:event-7642@leo-network.com
DTSTAMP:20260422T233610Z
DTSTART:20250530T150000Z
DTEND:20250531T000000Z
SUMMARY:A Martyr\'s Psyche™
DESCRIPTION:Law Enforcement Training
Hosted by: Triple I Solutions

View event details:
https://www.leo-network.com/event/a-martyr-s-psyche-junction-tx-7642/
LOCATION:Junction, TX
URL:https://www.leo-network.com/event/a-martyr-s-psyche-junction-tx-7642/
END:VEVENT
END:VCALENDAR
