BEGIN:VCALENDAR
VERSION:2.0
PRODID:-//LEO Network//Training Calendar//EN
BEGIN:VEVENT
UID:event-7647@leo-network.com
DTSTAMP:20260420T135634Z
DTSTART:20250609T150000Z
DTEND:20250613T000000Z
SUMMARY:Command Series Level 1: Developing First Line Supervisors
DESCRIPTION:Law Enforcement Training
Hosted by: J Harris Academy of Police Training

View event details:
https://www.leo-network.com/event/command-series-level-1-developing-first-line-supervisors-new-york-ny-7647/
LOCATION:New York, NY
URL:https://www.leo-network.com/event/command-series-level-1-developing-first-line-supervisors-new-york-ny-7647/
END:VEVENT
END:VCALENDAR
