BEGIN:VCALENDAR
VERSION:2.0
PRODID:-//LEO Network//Training Calendar//EN
BEGIN:VEVENT
UID:event-7701@leo-network.com
DTSTAMP:20260423T114336Z
DTSTART:20250428T150000Z
DTEND:20250430T000000Z
SUMMARY:Roadside Interview
DESCRIPTION:Law Enforcement Training
Hosted by: Fog Line Training

View event details:
https://www.leo-network.com/event/roadside-interview-greensboro-nc-7701/
LOCATION:Greensboro, NC
URL:https://www.leo-network.com/event/roadside-interview-greensboro-nc-7701/
END:VEVENT
END:VCALENDAR
