BEGIN:VCALENDAR
VERSION:2.0
PRODID:-//LEO Network//Training Calendar//EN
BEGIN:VEVENT
UID:event-7702@leo-network.com
DTSTAMP:20260423T115026Z
DTSTART:20250515T150000Z
DTEND:20250517T000000Z
SUMMARY:Comprehensive Roadside Interdiction
DESCRIPTION:Law Enforcement Training
Hosted by: Fog Line Training

View event details:
https://www.leo-network.com/event/comprehensive-roadside-interdiction-salisbury-nc-7702/
LOCATION:salisbury, NC
URL:https://www.leo-network.com/event/comprehensive-roadside-interdiction-salisbury-nc-7702/
END:VEVENT
END:VCALENDAR
