BEGIN:VCALENDAR
VERSION:2.0
PRODID:-//LEO Network//Training Calendar//EN
BEGIN:VEVENT
UID:event-7703@leo-network.com
DTSTAMP:20260423T114310Z
DTSTART:20250605T150000Z
DTEND:20250607T000000Z
SUMMARY:Comprehensive Roadside Interdiction
DESCRIPTION:Law Enforcement Training
Hosted by: Fog Line Training

View event details:
https://www.leo-network.com/event/comprehensive-roadside-interdiction-greensboro-nc-7703/
LOCATION:Greensboro, NC
URL:https://www.leo-network.com/event/comprehensive-roadside-interdiction-greensboro-nc-7703/
END:VEVENT
END:VCALENDAR
