BEGIN:VCALENDAR
VERSION:2.0
PRODID:-//LEO Network//Training Calendar//EN
BEGIN:VEVENT
UID:event-7704@leo-network.com
DTSTAMP:20260423T115107Z
DTSTART:20250626T150000Z
DTEND:20250628T000000Z
SUMMARY:Introduction to Interdiction
DESCRIPTION:Law Enforcement Training
Hosted by: Fog Line Training

View event details:
https://www.leo-network.com/event/introduction-to-interdiction-marion-nc-7704/
LOCATION:Marion, NC
URL:https://www.leo-network.com/event/introduction-to-interdiction-marion-nc-7704/
END:VEVENT
END:VCALENDAR
