BEGIN:VCALENDAR
VERSION:2.0
PRODID:-//LEO Network//Training Calendar//EN
BEGIN:VEVENT
UID:event-7718@leo-network.com
DTSTAMP:20260423T040819Z
DTSTART:20250403T150000Z
DTEND:20250405T000000Z
SUMMARY:Law Enforcement Grant Writing 101 - IADLEST Certified
DESCRIPTION:Law Enforcement Training
Hosted by: Police Grant Writing LLC

View event details:
https://www.leo-network.com/event/law-enforcement-grant-writing-101-iadlest-certified-hudson-nh-7718/
LOCATION:Hudson, NH
URL:https://www.leo-network.com/event/law-enforcement-grant-writing-101-iadlest-certified-hudson-nh-7718/
END:VEVENT
END:VCALENDAR
