BEGIN:VCALENDAR
VERSION:2.0
PRODID:-//LEO Network//Training Calendar//EN
BEGIN:VEVENT
UID:event-7781@leo-network.com
DTSTAMP:20260420T201813Z
DTSTART:20250609T150000Z
DTEND:20250612T000000Z
SUMMARY:Corporal Training 
DESCRIPTION:Law Enforcement Training
Hosted by: J Harris Academy of Police Training

View event details:
https://www.leo-network.com/event/corporal-training-upper-marlboro-md-7781/
LOCATION:Upper Marlboro, MD
URL:https://www.leo-network.com/event/corporal-training-upper-marlboro-md-7781/
END:VEVENT
END:VCALENDAR
