BEGIN:VCALENDAR
VERSION:2.0
PRODID:-//LEO Network//Training Calendar//EN
BEGIN:VEVENT
UID:event-7782@leo-network.com
DTSTAMP:20260421T130350Z
DTSTART:20250414T150000Z
DTEND:20250418T000000Z
SUMMARY:Command Series Level 1: Developing First Line Supervisors
DESCRIPTION:Law Enforcement Training
Hosted by: J Harris Academy of Police Training

View event details:
https://www.leo-network.com/event/command-series-level-1-developing-first-line-supervisors-robbinsville-nj-7782/
LOCATION:Robbinsville, NJ
URL:https://www.leo-network.com/event/command-series-level-1-developing-first-line-supervisors-robbinsville-nj-7782/
END:VEVENT
END:VCALENDAR
