BEGIN:VCALENDAR
VERSION:2.0
PRODID:-//LEO Network//Training Calendar//EN
BEGIN:VEVENT
UID:event-7796@leo-network.com
DTSTAMP:20260424T195958Z
DTSTART:20250929T150000Z
DTEND:20250902T000000Z
SUMMARY:Force Encounters Analysis: Understanding Human Performance in Critical Incidents
DESCRIPTION:Law Enforcement Training
Hosted by: Human Performance Training and Consulting

View event details:
https://www.leo-network.com/event/force-encounters-analysis-understanding-human-performance-in-critical-incidents-fairfield-ca-7796/
LOCATION:Fairfield, CA
URL:https://www.leo-network.com/event/force-encounters-analysis-understanding-human-performance-in-critical-incidents-fairfield-ca-7796/
END:VEVENT
END:VCALENDAR
