BEGIN:VCALENDAR
VERSION:2.0
PRODID:-//LEO Network//Training Calendar//EN
BEGIN:VEVENT
UID:event-7839@leo-network.com
DTSTAMP:20260424T184455Z
DTSTART:20251023T150000Z
DTEND:20251024T000000Z
SUMMARY:Bulletproof Report Writing by Blue to Gold
DESCRIPTION:Law Enforcement Training
Hosted by: Blue to Gold Training

View event details:
https://www.leo-network.com/event/bulletproof-report-writing-by-blue-to-gold-costa-mesa-ca-7839/
LOCATION:costa mesa, CA
URL:https://www.leo-network.com/event/bulletproof-report-writing-by-blue-to-gold-costa-mesa-ca-7839/
END:VEVENT
END:VCALENDAR
