BEGIN:VCALENDAR
VERSION:2.0
PRODID:-//LEO Network//Training Calendar//EN
BEGIN:VEVENT
UID:event-7840@leo-network.com
DTSTAMP:20260422T155055Z
DTSTART:20251104T160000Z
DTEND:20251106T010000Z
SUMMARY:Search & Seizure Workshop by Blue to Gold
DESCRIPTION:Law Enforcement Training
Hosted by: Blue to Gold Training

View event details:
https://www.leo-network.com/event/search-seizure-workshop-by-blue-to-gold-topeka-ks-7840/
LOCATION:topeka, KS
URL:https://www.leo-network.com/event/search-seizure-workshop-by-blue-to-gold-topeka-ks-7840/
END:VEVENT
END:VCALENDAR
