BEGIN:VCALENDAR
VERSION:2.0
PRODID:-//LEO Network//Training Calendar//EN
BEGIN:VEVENT
UID:event-7844@leo-network.com
DTSTAMP:20260424T201123Z
DTSTART:20251209T160000Z
DTEND:20251210T010000Z
SUMMARY:Advanced Search & Seizure by Blue to Gold
DESCRIPTION:Law Enforcement Training
Hosted by: Blue to Gold Training

View event details:
https://www.leo-network.com/event/advanced-search-seizure-by-blue-to-gold-fairfield-ca-7844/
LOCATION:fairfield, CA
URL:https://www.leo-network.com/event/advanced-search-seizure-by-blue-to-gold-fairfield-ca-7844/
END:VEVENT
END:VCALENDAR
