BEGIN:VCALENDAR
VERSION:2.0
PRODID:-//LEO Network//Training Calendar//EN
BEGIN:VEVENT
UID:event-7846@leo-network.com
DTSTAMP:20260424T195923Z
DTSTART:20251211T160000Z
DTEND:20251212T010000Z
SUMMARY:Advanced Criminal Investigations by Blue to Gold
DESCRIPTION:Law Enforcement Training
Hosted by: Blue to Gold Training

View event details:
https://www.leo-network.com/event/advanced-criminal-investigations-by-blue-to-gold-fairfield-ca-7846/
LOCATION:fairfield, CA
URL:https://www.leo-network.com/event/advanced-criminal-investigations-by-blue-to-gold-fairfield-ca-7846/
END:VEVENT
END:VCALENDAR
