BEGIN:VCALENDAR
VERSION:2.0
PRODID:-//LEO Network//Training Calendar//EN
BEGIN:VEVENT
UID:event-7869@leo-network.com
DTSTAMP:20260419T161127Z
DTSTART:20251209T160000Z
DTEND:20251210T010000Z
SUMMARY:Recognizing Pre-Attack Indicators
DESCRIPTION:Law Enforcement Training
Hosted by: ONEFACE LLC

View event details:
https://www.leo-network.com/event/recognizing-pre-attack-indicators-croydon-pa-7869/
LOCATION:Croydon, PA
URL:https://www.leo-network.com/event/recognizing-pre-attack-indicators-croydon-pa-7869/
END:VEVENT
END:VCALENDAR
