BEGIN:VCALENDAR
VERSION:2.0
PRODID:-//LEO Network//Training Calendar//EN
BEGIN:VEVENT
UID:event-7871@leo-network.com
DTSTAMP:20260421T153821Z
DTSTART:20250521T150000Z
DTEND:20250524T000000Z
SUMMARY:Voice Stress Analysis - Re-Certification
DESCRIPTION:Law Enforcement Training
Hosted by: International Association of Voice Stress Analysts

View event details:
https://www.leo-network.com/event/voice-stress-analysis-re-certification-pensacola-fl-7871/
LOCATION:Pensacola, FL
URL:https://www.leo-network.com/event/voice-stress-analysis-re-certification-pensacola-fl-7871/
END:VEVENT
END:VCALENDAR
