BEGIN:VCALENDAR
VERSION:2.0
PRODID:-//LEO Network//Training Calendar//EN
BEGIN:VEVENT
UID:event-7877@leo-network.com
DTSTAMP:20260422T115532Z
DTSTART:20250402T150000Z
DTEND:20250403T000000Z
SUMMARY:IP, App and Internet Investigations for Police
DESCRIPTION:Law Enforcement Training
Hosted by: Badge Apps LLC

View event details:
https://www.leo-network.com/event/ip-app-and-internet-investigations-for-police-salt-lake-city-ut-7877/
LOCATION:Salt Lake City, UT
URL:https://www.leo-network.com/event/ip-app-and-internet-investigations-for-police-salt-lake-city-ut-7877/
END:VEVENT
END:VCALENDAR
