BEGIN:VCALENDAR
VERSION:2.0
PRODID:-//LEO Network//Training Calendar//EN
BEGIN:VEVENT
UID:event-7892@leo-network.com
DTSTAMP:20260421T204128Z
DTSTART:20250707T150000Z
DTEND:20250717T000000Z
SUMMARY:At-Scene Traffic Crash/Traffic Homicide Investigation
DESCRIPTION:Law Enforcement Training
Hosted by: Institute of Police Technology and Management (IPTM)

View event details:
https://www.leo-network.com/event/at-scene-traffic-crash-traffic-homicide-investigation-meriden-ct-7892/
LOCATION:Meriden, CT
URL:https://www.leo-network.com/event/at-scene-traffic-crash-traffic-homicide-investigation-meriden-ct-7892/
END:VEVENT
END:VCALENDAR
