BEGIN:VCALENDAR
VERSION:2.0
PRODID:-//LEO Network//Training Calendar//EN
BEGIN:VEVENT
UID:event-7897@leo-network.com
DTSTAMP:20260421T141431Z
DTSTART:20250721T150000Z
DTEND:20250731T000000Z
SUMMARY:At-Scene Traffic Crash/Traffic Homicide Investigation
DESCRIPTION:Law Enforcement Training
Hosted by: Institute of Police Technology and Management (IPTM)

View event details:
https://www.leo-network.com/event/at-scene-traffic-crash-traffic-homicide-investigation-naples-fl-7897/
LOCATION:Naples, FL
URL:https://www.leo-network.com/event/at-scene-traffic-crash-traffic-homicide-investigation-naples-fl-7897/
END:VEVENT
END:VCALENDAR
