BEGIN:VCALENDAR
VERSION:2.0
PRODID:-//LEO Network//Training Calendar//EN
BEGIN:VEVENT
UID:event-7903@leo-network.com
DTSTAMP:20260421T203305Z
DTSTART:20250721T150000Z
DTEND:20250731T000000Z
SUMMARY:Advanced Traffic Crash Investigation
DESCRIPTION:Law Enforcement Training
Hosted by: Institute of Police Technology and Management (IPTM)

View event details:
https://www.leo-network.com/event/advanced-traffic-crash-investigation-meriden-ct-7903/
LOCATION:Meriden, CT
URL:https://www.leo-network.com/event/advanced-traffic-crash-investigation-meriden-ct-7903/
END:VEVENT
END:VCALENDAR
