BEGIN:VCALENDAR
VERSION:2.0
PRODID:-//LEO Network//Training Calendar//EN
BEGIN:VEVENT
UID:event-7914@leo-network.com
DTSTAMP:20260421T202522Z
DTSTART:20251013T150000Z
DTEND:20251018T000000Z
SUMMARY:Energy Methods and Damage Analysis in Traffic Crash Reconstruction
DESCRIPTION:Law Enforcement Training
Hosted by: Institute of Police Technology and Management (IPTM)

View event details:
https://www.leo-network.com/event/energy-methods-and-damage-analysis-in-traffic-crash-reconstruction-windsor-locks-ct-7914/
LOCATION:Windsor Locks, CT
URL:https://www.leo-network.com/event/energy-methods-and-damage-analysis-in-traffic-crash-reconstruction-windsor-locks-ct-7914/
END:VEVENT
END:VCALENDAR
