BEGIN:VCALENDAR
VERSION:2.0
PRODID:-//LEO Network//Training Calendar//EN
BEGIN:VEVENT
UID:event-7926@leo-network.com
DTSTAMP:20260421T202625Z
DTSTART:20251027T150000Z
DTEND:20251101T000000Z
SUMMARY:Event Data Recorder Use in Traffic Crash Reconstruction - Level II
DESCRIPTION:Law Enforcement Training
Hosted by: Institute of Police Technology and Management (IPTM)

View event details:
https://www.leo-network.com/event/event-data-recorder-use-in-traffic-crash-reconstruction-level-ii-windsor-locks-ct-7926/
LOCATION:Windsor Locks, CT
URL:https://www.leo-network.com/event/event-data-recorder-use-in-traffic-crash-reconstruction-level-ii-windsor-locks-ct-7926/
END:VEVENT
END:VCALENDAR
