BEGIN:VCALENDAR
VERSION:2.0
PRODID:-//LEO Network//Training Calendar//EN
BEGIN:VEVENT
UID:event-7932@leo-network.com
DTSTAMP:20260421T141418Z
DTSTART:20250811T150000Z
DTEND:20250816T000000Z
SUMMARY:Hostage Crisis Negotiations - Level I
DESCRIPTION:Law Enforcement Training
Hosted by: Institute of Police Technology and Management (IPTM)

View event details:
https://www.leo-network.com/event/hostage-crisis-negotiations-level-i-daytona-beach-fl-7932/
LOCATION:Daytona Beach, FL
URL:https://www.leo-network.com/event/hostage-crisis-negotiations-level-i-daytona-beach-fl-7932/
END:VEVENT
END:VCALENDAR
