BEGIN:VCALENDAR
VERSION:2.0
PRODID:-//LEO Network//Training Calendar//EN
BEGIN:VEVENT
UID:event-7935@leo-network.com
DTSTAMP:20260421T204013Z
DTSTART:20250929T150000Z
DTEND:20250904T000000Z
SUMMARY:Investigation of Motorcycle Crashes - Level I
DESCRIPTION:Law Enforcement Training
Hosted by: Institute of Police Technology and Management (IPTM)

View event details:
https://www.leo-network.com/event/investigation-of-motorcycle-crashes-level-i-windsor-locks-ct-7935/
LOCATION:Windsor Locks, CT
URL:https://www.leo-network.com/event/investigation-of-motorcycle-crashes-level-i-windsor-locks-ct-7935/
END:VEVENT
END:VCALENDAR
