BEGIN:VCALENDAR
VERSION:2.0
PRODID:-//LEO Network//Training Calendar//EN
BEGIN:VEVENT
UID:event-7936@leo-network.com
DTSTAMP:20260424T184104Z
DTSTART:20250825T150000Z
DTEND:20250830T000000Z
SUMMARY:Investigation of Motorcycle Crashes - Level II
DESCRIPTION:Law Enforcement Training
Hosted by: Institute of Police Technology and Management (IPTM)

View event details:
https://www.leo-network.com/event/investigation-of-motorcycle-crashes-level-ii-irvine-ca-7936/
LOCATION:Irvine, CA
URL:https://www.leo-network.com/event/investigation-of-motorcycle-crashes-level-ii-irvine-ca-7936/
END:VEVENT
END:VCALENDAR
