BEGIN:VCALENDAR
VERSION:2.0
PRODID:-//LEO Network//Training Calendar//EN
BEGIN:VEVENT
UID:event-7937@leo-network.com
DTSTAMP:20260422T202327Z
DTSTART:20250630T150000Z
DTEND:20250603T000000Z
SUMMARY:Investigative Interview Techniques for Internal Affairs Officers
DESCRIPTION:Law Enforcement Training
Hosted by: Institute of Police Technology and Management (IPTM)

View event details:
https://www.leo-network.com/event/investigative-interview-techniques-for-internal-affairs-officers-austell-ga-7937/
LOCATION:Austell, GA
URL:https://www.leo-network.com/event/investigative-interview-techniques-for-internal-affairs-officers-austell-ga-7937/
END:VEVENT
END:VCALENDAR
