BEGIN:VCALENDAR
VERSION:2.0
PRODID:-//LEO Network//Training Calendar//EN
BEGIN:VEVENT
UID:event-7938@leo-network.com
DTSTAMP:20260422T201954Z
DTSTART:20250519T150000Z
DTEND:20250524T000000Z
SUMMARY:Police Applicant Background Investigation
DESCRIPTION:Law Enforcement Training
Hosted by: Institute of Police Technology and Management (IPTM)

View event details:
https://www.leo-network.com/event/police-applicant-background-investigation-austell-ga-7938/
LOCATION:Austell, GA
URL:https://www.leo-network.com/event/police-applicant-background-investigation-austell-ga-7938/
END:VEVENT
END:VCALENDAR
