BEGIN:VCALENDAR
VERSION:2.0
PRODID:-//LEO Network//Training Calendar//EN
BEGIN:VEVENT
UID:event-7944@leo-network.com
DTSTAMP:20260421T202415Z
DTSTART:20250804T150000Z
DTEND:20250814T000000Z
SUMMARY:Traffic Crash Reconstruction
DESCRIPTION:Law Enforcement Training
Hosted by: Institute of Police Technology and Management (IPTM)

View event details:
https://www.leo-network.com/event/traffic-crash-reconstruction-meriden-ct-7944/
LOCATION:Meriden, CT
URL:https://www.leo-network.com/event/traffic-crash-reconstruction-meriden-ct-7944/
END:VEVENT
END:VCALENDAR
